Workbook

Sheet Comienzo

Sheet Planilla de registro
C3: Mes 1 | D3: Semana 1 | E3: Semana 2 | F3: Semana 3 | G3: Semana 4 | H3: Mes 2 | I3: Semana 1 | J3: Semana 2 | K3: Semana 3 | L3: Semana 4 | M3: Mes 3 | N3: Semana 1 | O3: Semana 2 | P3: Semana 3 | Q3: Semana 4 | R3: Mes 4 | S3: Semana 1 | T3: Semana 2 | U3: Semana 3 | V3: Semana 4 | W3: Mes 5 | X3: Semana 1 | Y3: Semana 2 | Z3: Semana 3 | AA3: Semana 4 | AB3: Mes 6 | AC3: Semana 1 | AD3: Semana 2 | AE3: Semana 3 | AF3: Semana 4 | AG3: Mes 7 | AH3: Semana 1 | AI3: Semana 2 | AJ3: Semana 3 | AK3: Semana 4 | AL3: Mes 8 | AM3: Semana 1 | AN3: Semana 2 | AO3: Semana 3 | AP3: Semana 4 | AQ3: Mes 9 | AR3: Semana 1 | AS3: Semana 2 | AT3: Semana 3 | AU3: Semana 4 | AV3: Mes 10 | AW3: Semana 1 | AX3: Semana 2 | AY3: Semana 3 | AZ3: Semana 4 | BA3: Mes 11 | BB3: Semana 1 | BC3: Semana 2 | BD3: Semana 3 | BE3: Semana 4 | BF3: Mes 12 | BG3: Semana 1 | BH3: Semana 2 | BI3: Semana 3 | BJ3: Semana 4
B4: INGRESOS | C4: =SUM(C5:C6) -> 0 | D4: =SUM(D5:D12) -> 0 | E4: =SUM(E5:E12) -> 0 | F4: =SUM(F5:F12) -> 0 | G4: =SUM(G5:G12) -> 0 | H4: =SUM(H5:H13) -> 0 | I4: =SUM(I5:I12) -> 0 | J4: =SUM(J5:J12) -> 0 | K4: =SUM(K5:K12) -> 0 | L4: =SUM(L5:L12) -> 0 | M4: =SUM(M5:M13) -> 0 | N4: =SUM(N5:N12) -> 0 | O4: =SUM(O5:O12) -> 0 | P4: =SUM(P5:P12) -> 0 | Q4: =SUM(Q5:Q12) -> 0 | R4: =SUM(R5:R12) -> 0 | S4: =SUM(S5:S12) -> 0 | T4: =SUM(T5:T12) -> 0 | U4: =SUM(U5:U12) -> 0 | ... BJ4: =SUM(BJ5:BJ12) -> 0
B5: Sueldo: | C5: 0 | H5: 0 | M5: =SUM(N5:Q5) -> 0 | R5: =SUM(S5:V5) -> 0 | W5: =SUM(X5:AA5) -> 0 | AB5: =SUM(AC5:AF5) -> 0 | AG5: =SUM(AH5:AK5) -> 0 | AL5: =SUM(AM5:AP5) -> 0 | AQ5: =SUM(AR5:AU5) -> 0 | AV5: =SUM(AW5:AZ5) -> 0 | BA5: =SUM(BB5:BE5) -> 0 | BF5: =SUM(BG5:BJ5) -> 0
B6: Otros ingresos: | C6: =SUM(C7:C12) -> 0 | H6: =SUM(H7:H12) -> 0 | M6: =SUM(M7:M12) -> 0 | R6: =SUM(R7:R12) -> 0 | W6: =SUM(W7:W12) -> 0 | AB6: =SUM(AB7:AB12) -> 0 | AG6: =SUM(AG7:AG12) -> 0 | AL6: =SUM(AL7:AL12) -> 0 | AQ6: =SUM(AQ7:AQ12) -> 0 | AV6: =SUM(AV7:AV12) -> 0 | BA6: =SUM(BA7:BA12) -> 0 | BF6: =SUM(BF7:BF12) -> 0
B7: Sueldo familiar | C7: =SUM(D7:G7) -> 0 | H7: =SUM(I7:L7) -> 0 | M7: =SUM(N7:Q7) -> 0 | R7: =SUM(S7:V7) -> 0 | W7: =SUM(X7:AA7) -> 0 | AB7: =SUM(AC7:AF7) -> 0 | AG7: =SUM(AH7:AK7) -> 0 | AL7: =SUM(AM7:AP7) -> 0 | AQ7: =SUM(AR7:AU7) -> 0 | AV7: =SUM(AW7:AZ7) -> 0 | BA7: =SUM(BB7:BE7) -> 0 | BF7: =SUM(BG7:BJ7) -> 0
B8: Rentas | C8: =SUM(D8:G8) -> 0 | H8: =SUM(I8:L8) -> 0 | M8: =SUM(N8:Q8) -> 0 | R8: =SUM(S8:V8) -> 0 | W8: =SUM(X8:AA8) -> 0 | AB8: =SUM(AC8:AF8) -> 0 | AG8: =SUM(AH8:AK8) -> 0 | AL8: =SUM(AM8:AP8) -> 0 | AQ8: =SUM(AR8:AU8) -> 0 | AV8: =SUM(AW8:AZ8) -> 0 | BA8: =SUM(BB8:BE8) -> 0 | BF8: =SUM(BG8:BJ8) -> 0
B9: Asignaciones | C9: =SUM(D9:G9) -> 0 | H9: =SUM(I9:L9) -> 0 | M9: =SUM(N9:Q9) -> 0 | R9: =SUM(S9:V9) -> 0 | W9: =SUM(X9:AA9) -> 0 | AB9: =SUM(AC9:AF9) -> 0 | AG9: =SUM(AH9:AK9) -> 0 | AL9: =SUM(AM9:AP9) -> 0 | AQ9: =SUM(AR9:AU9) -> 0 | AV9: =SUM(AW9:AZ9) -> 0 | BA9: =SUM(BB9:BE9) -> 0 | BF9: =SUM(BG9:BJ9) -> 0
B10: Aportes de familiares | C10: =SUM(D10:G10) -> 0 | H10: =SUM(I10:L10) -> 0 | M10: =SUM(N10:Q10) -> 0 | R10: =SUM(S10:V10) -> 0 | W10: =SUM(X10:AA10) -> 0 | AB10: =SUM(AC10:AF10) -> 0 | AG10: =SUM(AH10:AK10) -> 0 | AL10: =SUM(AM10:AP10) -> 0 | AQ10: =SUM(AR10:AU10) -> 0 | AV10: =SUM(AW10:AZ10) -> 0 | BA10: =SUM(BB10:BE10) -> 0 | BF10: =SUM(BG10:BJ10) -> 0
B11: Trabajos freelance | C11: =SUM(D11:G11) -> 0 | H11: =SUM(I11:L11) -> 0 | M11: =SUM(N11:Q11) -> 0 | R11: =SUM(S11:V11) -> 0 | W11: =SUM(X11:AA11) -> 0 | AB11: =SUM(AC11:AF11) -> 0 | AG11: =SUM(AH11:AK11) -> 0 | AL11: =SUM(AM11:AP11) -> 0 | AQ11: =SUM(AR11:AU11) -> 0 | AV11: =SUM(AW11:AZ11) -> 0 | BA11: =SUM(BB11:BE11) -> 0 | BF11: =SUM(BG11:BJ11) -> 0
B12: Reintegros: devoluciones de IVA, FONASA, descuentos, otros | C12: =SUM(D12:G12) -> 0 | H12: =SUM(I12:L12) -> 0 | M12: =SUM(N12:Q12) -> 0 | R12: =SUM(S12:V12) -> 0 | W12: =SUM(X12:AA12) -> 0 | AB12: =SUM(AC12:AF12) -> 0 | AG12: =SUM(AH12:AK12) -> 0 | AL12: =SUM(AM12:AP12) -> 0 | AQ12: =SUM(AR12:AU12) -> 0 | AV12: =SUM(AW12:AZ12) -> 0 | BA12: =SUM(BB12:BE12) -> 0 | BF12: =SUM(BG12:BJ12) -> 0
B14: GASTOS | C14: =C15+C21+C28+C31+C35+C40+C48 -> 0 | H14: =SUM(H15,H21,H28,H31,H35,H40,H48) -> 0 | M14: =M15+M21+M28+M31+M35+M40+M48 -> 0 | R14: =R15+R21+R28+R31+R35+R40+R48 -> 0 | W14: =W15+W21+W28+W31+W35+W40+W48 -> 0 | AB14: =AB15+AB21+AB28+AB31+AB35+AB40+AB48 -> 0 | AG14: =AG15+AG21+AG28+AG31+AG35+AG40+AG48 -> 0 | AL14: =AL15+AL21+AL28+AL31+AL35+AL40+AL48 -> 0 | AQ14: =AQ15+AQ21+AQ28+AQ31+AQ35+AQ40+AQ48 -> 0 | AV14: =AV15+AV21+AV28+AV31+AV35+AV40+AV48 -> 0 | BA14: =BA15+BA21+BA28+BA31+BA35+BA40+BA48 -> 0 | BF14: =BF15+BF21+BF28+BF31+BF35+BF40+BF48 -> 0
B15: Gastos genéricos del hogar: | C15: =C16+C17+C18+C19+C20 -> 0 | D15: =SUM(D16:D20) -> 0 | E15: =SUM(E16:E20) -> 0 | F15: =SUM(F16:F20) -> 0 | G15: =SUM(G16:G20) -> 0 | H15: =SUM(H16:H20) -> 0 | I15: =SUM(I16:I20) -> 0 | J15: =SUM(J16:J20) -> 0 | K15: =SUM(K16:K20) -> 0 | ... BJ15: =SUM(BJ16:BJ20) -> 0
B16: Alquiler o cuota préstamo | C16: =SUM(D16:G16) -> 0 | H16: =SUM(I16:L16) -> 0 | M16: =SUM(N16:Q16) -> 0 | R16: =SUM(S16:V16) -> 0 | W16: =SUM(X16:AA16) -> 0 | AB16: =SUM(AC16:AF16) -> 0 | AG16: =SUM(AH16:AK16) -> 0 | AL16: =SUM(AM16:AP16) -> 0 | AQ16: =SUM(AR16:AU16) -> 0 | AV16: =SUM(AW16:AZ16) -> 0 | BA16: =SUM(BB16:BE16) -> 0 | BF16: =SUM(BG16:BJ16) -> 0
B17: Gastos comunes | C17: 0 | H17: =SUM(I17:L17) -> 0 | M17: =SUM(N17:Q17) -> 0 | R17: =SUM(S17:V17) -> 0 | W17: =SUM(X17:AA17) -> 0 | AB17: =SUM(AC17:AF17) -> 0 | AG17: =SUM(AH17:AK17) -> 0 | AL17: =SUM(AM17:AP17) -> 0 | AQ17: =SUM(AR17:AU17) -> 0 | AV17: =SUM(AW17:AZ17) -> 0 | BA17: =SUM(BB17:BE17) -> 0 | BF17: =SUM(BG17:BJ17) -> 0
B18: Tributos domiciliarios: Contribución, impuesto a primaria | C18: =SUM(D18:G18) -> 0 | H18: 0 | M18: =SUM(N18:Q18) -> 0 | R18: =SUM(S18:V18) -> 0 | W18: =SUM(X18:AA18) -> 0 | AB18: =SUM(AC18:AF18) -> 0 | AG18: =SUM(AH18:AK18) -> 0 | AL18: =SUM(AM18:AP18) -> 0 | AQ18: =SUM(AR18:AU18) -> 0 | AV18: =SUM(AW18:AZ18) -> 0 | BA18: =SUM(BB18:BE18) -> 0 | BF18: =SUM(BG18:BJ18) -> 0
B19: Agua, electricidad, gas | C19: =SUM(D19:G19) -> 0 | H19: =SUM(I19:L19) -> 0 | M19: =SUM(N19:Q19) -> 0 | R19: =SUM(S19:V19) -> 0 | W19: =SUM(X19:AA19) -> 0 | AB19: =SUM(AC19:AF19) -> 0 | AG19: =SUM(AH19:AK19) -> 0 | AL19: =SUM(AM19:AP19) -> 0 | AQ19: =SUM(AR19:AU19) -> 0 | AV19: =SUM(AW19:AZ19) -> 0 | BA19: =SUM(BB19:BE19) -> 0 | BF19: =SUM(BG19:BJ19) -> 0
B20: Teléfono, WIFI, Cable | C20: =SUM(D20:G20) -> 0 | H20: =SUM(I20:L20) -> 0 | M20: =SUM(N20:Q20) -> 0 | R20: =SUM(S20:V20) -> 0 | W20: =SUM(X20:AA20) -> 0 | AB20: =SUM(AC20:AF20) -> 0 | AG20: =SUM(AH20:AK20) -> 0 | AL20: =SUM(AM20:AP20) -> 0 | AQ20: =SUM(AR20:AU20) -> 0 | AV20: =SUM(AW20:AZ20) -> 0 | BA20: =SUM(BB20:BE20) -> 0 | BF20: =SUM(BG20:BJ20) -> 0
B21: Gastos específicos del hogar: | C21: =C22+C23+C24+C26+C25+C27 -> 0 | D21: =SUM(D22:D27) -> 0 | E21: =SUM(E22:E27) -> 0 | F21: =SUM(F22:F27) -> 0 | G21: =SUM(G22:G27) -> 0 | H21: =SUM(H22:H27) -> 0 | I21: =SUM(I22:I27) -> 0 | J21: =SUM(J22:J27) -> 0 | K21: =SUM(K22:K27) -> 0 | ... BJ21: =SUM(BJ22:BJ27) -> 0
B22: Decoración, muebles, electrodomésticos, ropa blanca, otros | C22: =SUM(D22:G22) -> 0 | H22: =SUM(I22:L22) -> 0 | M22: =SUM(N22:Q22) -> 0 | R22: =SUM(S22:V22) -> 0 | W22: =SUM(X22:AA22) -> 0 | AB22: =SUM(AC22:AF22) -> 0 | AG22: =SUM(AH22:AK22) -> 0 | AL22: =SUM(AM22:AP22) -> 0 | AQ22: =SUM(AR22:AU22) -> 0 | AV22: =SUM(AW22:AZ22) -> 0 | BA22: =SUM(BB22:BE22) -> 0 | BF22: =SUM(BG22:BJ22) -> 0
B23: Supermercado, feria, otros | C23: =SUM(D23:G23) -> 0 | H23: =SUM(I23:L23) -> 0 | M23: =SUM(N23:Q23) -> 0 | R23: =SUM(S23:V23) -> 0 | W23: =SUM(X23:AA23) -> 0 | AB23: =SUM(AC23:AF23) -> 0 | AG23: =SUM(AH23:AK23) -> 0 | AL23: =SUM(AM23:AP23) -> 0 | AQ23: =SUM(AR23:AU23) -> 0 | AV23: =SUM(AW23:AZ23) -> 0 | BA23: =SUM(BB23:BE23) -> 0 | BF23: =SUM(BG23:BJ23) -> 0
B24: Servicio doméstico: Salario, BPS, BSE | C24: =SUM(D24:G24) -> 0 | H24: =SUM(I24:L24) -> 0 | M24: =SUM(N24:Q24) -> 0 | R24: =SUM(S24:V24) -> 0 | W24: =SUM(X24:AA24) -> 0 | AB24: =SUM(AC24:AF24) -> 0 | AG24: =SUM(AH24:AK24) -> 0 | AL24: =SUM(AM24:AP24) -> 0 | AQ24: =SUM(AR24:AU24) -> 0 | AV24: =SUM(AW24:AZ24) -> 0 | BA24: =SUM(BB24:BE24) -> 0 | BF24: =SUM(BG24:BJ24) -> 0
B25: Delivery | C25: =SUM(D25:G25) -> 0 | H25: =SUM(I25:L25) -> 0 | M25: =SUM(N25:Q25) -> 0 | R25: =SUM(S25:V25) -> 0 | W25: =SUM(X25:AA25) -> 0 | AB25: =SUM(AC25:AF25) -> 0 | AG25: =SUM(AH25:AK25) -> 0 | AL25: =SUM(AM25:AP25) -> 0 | AQ25: =SUM(AR25:AU25) -> 0 | AV25: =SUM(AW25:AZ25) -> 0 | BA25: =SUM(BB25:BE25) -> 0 | BF25: =SUM(BG25:BJ25) -> 0
B26: Mantenimiento, ferretería, otros | C26: =SUM(D26:G26) -> 0 | H26: =SUM(I26:L26) -> 0 | M26: =SUM(N26:Q26) -> 0 | R26: =SUM(S26:V26) -> 0 | W26: =SUM(X26:AA26) -> 0 | AB26: =SUM(AC26:AF26) -> 0 | AG26: =SUM(AH26:AK26) -> 0 | AL26: =SUM(AM26:AP26) -> 0 | AQ26: =SUM(AR26:AU26) -> 0 | AV26: =SUM(AW26:AZ26) -> 0 | BA26: =SUM(BB26:BE26) -> 0 | BF26: =SUM(BG26:BJ26) -> 0
B27: Mascotas, alimento, veterinaria, otros | C27: =SUM(D27:G27) -> 0 | H27: =SUM(I27:L27) -> 0 | M27: =SUM(N27:Q27) -> 0 | R27: =SUM(S27:V27) -> 0 | W27: =SUM(X27:AA27) -> 0 | AB27: =SUM(AC27:AF27) -> 0 | AG27: =SUM(AH27:AK27) -> 0 | AL27: =SUM(AM27:AP27) -> 0 | AQ27: =SUM(AR27:AU27) -> 0 | AV27: =SUM(AW27:AZ27) -> 0 | BA27: =SUM(BB27:BE27) -> 0 | BF27: =SUM(BG27:BJ27) -> 0
B28: Gastos en educación: | C28: =C29+C30 -> 0 | D28: =SUM(D29:D30) -> 0 | E28: =SUM(E29:E30) -> 0 | F28: =SUM(F29:F30) -> 0 | G28: =SUM(G29:G30) -> 0 | H28: =SUM(H29:H30) -> 0 | I28: =SUM(I29:I30) -> 0 | J28: =SUM(J29:J30) -> 0 | K28: =SUM(K29:K30) -> 0 | ... BJ28: =SUM(BJ29:BJ30) -> 0
B29: Matrículas y mensualidades de colegios, universidades, cursos, talleres, otros | C29: =SUM(D29:G29) -> 0 | H29: =SUM(I29:L29) -> 0 | M29: =SUM(N29:Q29) -> 0 | R29: =SUM(S29:V29) -> 0 | W29: =SUM(X29:AA29) -> 0 | AB29: =SUM(AC29:AF29) -> 0 | AG29: =SUM(AH29:AK29) -> 0 | AL29: =SUM(AM29:AP29) -> 0 | AQ29: =SUM(AR29:AU29) -> 0 | AV29: =SUM(AW29:AZ29) -> 0 | BA29: =SUM(BB29:BE29) -> 0 | BF29: =SUM(BG29:BJ29) -> 0
B30: Libros, materiales, otros | C30: =SUM(D30:G30) -> 0 | H30: =SUM(I30:L30) -> 0 | M30: =SUM(N30:Q30) -> 0 | R30: =SUM(S30:V30) -> 0 | W30: =SUM(X30:AA30) -> 0 | AB30: =SUM(AC30:AF30) -> 0 | AG30: =SUM(AH30:AK30) -> 0 | AL30: =SUM(AM30:AP30) -> 0 | AQ30: =SUM(AR30:AU30) -> 0 | AV30: =SUM(AW30:AZ30) -> 0 | BA30: =SUM(BB30:BE30) -> 0 | BF30: =SUM(BG30:BJ30) -> 0
B31: Gastos de salud: | C31: =SUM(C32:C34) -> 0 | D31: =SUM(D32:D33) -> 0 | E31: =SUM(E32:E33) -> 0 | F31: =SUM(F32:F33) -> 0 | G31: =SUM(G32:G33) -> 0 | H31: =SUM(H32:H33) -> 0 | I31: =SUM(I32:I33) -> 0 | J31: =SUM(J32:J33) -> 0 | K31: =SUM(K32:K33) -> 0 | ... BJ31: =SUM(BJ32:BJ33) -> 0
B32: Mutualista y seguros médicos | C32: =SUM(D32:G32) -> 0 | H32: =SUM(I32:L32) -> 0 | M32: =SUM(N32:Q32) -> 0 | R32: =SUM(S32:V32) -> 0 | W32: =SUM(X32:AA32) -> 0 | AB32: =SUM(AC32:AF32) -> 0 | AG32: =SUM(AH32:AK32) -> 0 | AL32: =SUM(AM32:AP32) -> 0 | AQ32: =SUM(AR32:AU32) -> 0 | AV32: =SUM(AW32:AZ32) -> 0 | BA32: =SUM(BB32:BE32) -> 0 | BF32: =SUM(BG32:BJ32) -> 0
B33: Farmacia | C33: =SUM(D33:G33) -> 0 | H33: =SUM(I33:L33) -> 0 | M33: =SUM(N33:Q33) -> 0 | R33: =SUM(S33:V33) -> 0 | W33: =SUM(X33:AA33) -> 0 | AB33: =SUM(AC33:AF33) -> 0 | AG33: =SUM(AH33:AK33) -> 0 | AL33: =SUM(AM33:AP33) -> 0 | AQ33: =SUM(AR33:AU33) -> 0 | AV33: =SUM(AW33:AZ33) -> 0 | BA33: =SUM(BB33:BE33) -> 0 | BF33: =SUM(BG33:BJ33) -> 0
B34: Gimnasio, club, otros | C34: =SUM(D34:G34) -> 0
B35: Gastos movilidad: | C35: =C36+C37+C38+C39 -> 0 | D35: =SUM(D36:D39) -> 0 | E35: =SUM(E36:E39) -> 0 | F35: =SUM(F36:F39) -> 0 | G35: =SUM(G36:G39) -> 0 | H35: =SUM(H36:H39) -> 0 | I35: =SUM(I36:I39) -> 0 | J35: =SUM(J36:J39) -> 0 | K35: =SUM(K36:K39) -> 0 | ... BJ35: =SUM(BJ36:BJ39) -> 0
B36: Patente, seguro | C36: =SUM(D36:G36) -> 0 | H36: =SUM(I36:L36) -> 0 | M36: =SUM(N36:Q36) -> 0 | R36: =SUM(S36:V36) -> 0 | W36: =SUM(X36:AA36) -> 0 | AB36: =SUM(AC36:AF36) -> 0 | AG36: =SUM(AH36:AK36) -> 0 | AL36: =SUM(AM36:AP36) -> 0 | AQ36: =SUM(AR36:AU36) -> 0 | AV36: =SUM(AW36:AZ36) -> 0 | BA36: =SUM(BB36:BE36) -> 0 | BF36: =SUM(BG36:BJ36) -> 0
B37: Nafta, estacionamiento | C37: =SUM(D37:G37) -> 0 | H37: =SUM(I37:L37) -> 0 | M37: =SUM(N37:Q37) -> 0 | R37: =SUM(S37:V37) -> 0 | W37: =SUM(X37:AA37) -> 0 | AB37: =SUM(AC37:AF37) -> 0 | AG37: =SUM(AH37:AK37) -> 0 | AL37: =SUM(AM37:AP37) -> 0 | AQ37: =SUM(AR37:AU37) -> 0 | AV37: =SUM(AW37:AZ37) -> 0 | BA37: =SUM(BB37:BE37) -> 0 | BF37: =SUM(BG37:BJ37) -> 0
B38: Boletos, taxi, Uber | C38: =SUM(D38:G38) -> 0 | H38: =SUM(I38:L38) -> 0 | M38: =SUM(N38:Q38) -> 0 | R38: =SUM(S38:V38) -> 0 | W38: =SUM(X38:AA38) -> 0 | AB38: =SUM(AC38:AF38) -> 0 | AG38: =SUM(AH38:AK38) -> 0 | AL38: =SUM(AM38:AP38) -> 0 | AQ38: =SUM(AR38:AU38) -> 0 | AV38: =SUM(AW38:AZ38) -> 0 | BA38: =SUM(BB38:BE38) -> 0 | BF38: =SUM(BG38:BJ38) -> 0
B39: Telepeaje | C39: =SUM(D39:G39) -> 0 | H39: =SUM(I39:L39) -> 0 | M39: =SUM(N39:Q39) -> 0 | R39: =SUM(S39:V39) -> 0 | W39: =SUM(X39:AA39) -> 0 | AB39: =SUM(AC39:AF39) -> 0 | AG39: =SUM(AH39:AK39) -> 0 | AL39: =SUM(AM39:AP39) -> 0 | AQ39: =SUM(AR39:AU39) -> 0 | AV39: =SUM(AW39:AZ39) -> 0 | BA39: =SUM(BB39:BE39) -> 0 | BF39: =SUM(BG39:BJ39) -> 0
B40: Gastos de entretenimiento y varios: | C40: =C41+C42+C43+C44+C45+C46+C47 -> 0 | D40: =SUM(D41:D47) -> 0 | E40: =SUM(E41:E47) -> 0 | F40: =SUM(F41:F47) -> 0 | G40: =SUM(G41:G47) -> 0 | H40: =SUM(H41:H47) -> 0 | I40: =SUM(I41:I47) -> 0 | J40: =SUM(J41:J47) -> 0 | K40: =SUM(K41:K47) -> 0 | ... BJ40: =SUM(BJ41:BJ47) -> 0
B41: Suscripciones digitales: streaming y apps | C41: =SUM(D41:G41) -> 0 | H41: =SUM(I41:L41) -> 0 | M41: =SUM(N41:Q41) -> 0 | R41: =SUM(S41:V41) -> 0 | W41: =SUM(X41:AA41) -> 0 | AB41: =SUM(AC41:AF41) -> 0 | AG41: =SUM(AH41:AK41) -> 0 | AL41: =SUM(AM41:AP41) -> 0 | AQ41: =SUM(AR41:AU41) -> 0 | AV41: =SUM(AW41:AZ41) -> 0 | BA41: =SUM(BB41:BE41) -> 0 | BF41: =SUM(BG41:BJ41) -> 0
B42: Eventos: Cine, teatro, partidos, eventos, otros | C42: =SUM(D42:G42) -> 0 | H42: =SUM(I42:L42) -> 0 | M42: =SUM(N42:Q42) -> 0 | R42: =SUM(S42:V42) -> 0 | W42: =SUM(X42:AA42) -> 0 | AB42: =SUM(AC42:AF42) -> 0 | AG42: =SUM(AH42:AK42) -> 0 | AL42: =SUM(AM42:AP42) -> 0 | AQ42: =SUM(AR42:AU42) -> 0 | AV42: =SUM(AW42:AZ42) -> 0 | BA42: =SUM(BB42:BE42) -> 0 | BF42: =SUM(BG42:BJ42) -> 0
B43: Salidas: Restaurants, pubs, discotecas, otros | C43: =SUM(D43:G43) -> 0 | H43: =SUM(I43:L43) -> 0 | M43: =SUM(N43:Q43) -> 0 | R43: =SUM(S43:V43) -> 0 | W43: =SUM(X43:AA43) -> 0 | AB43: =SUM(AC43:AF43) -> 0 | AG43: =SUM(AH43:AK43) -> 0 | AL43: =SUM(AM43:AP43) -> 0 | AQ43: =SUM(AR43:AU43) -> 0 | AV43: =SUM(AW43:AZ43) -> 0 | BA43: =SUM(BB43:BE43) -> 0 | BF43: =SUM(BG43:BJ43) -> 0
...

Sheet Reporte Mensual
B3: ´ | D3: ='Planilla de registro'!C3 -> Mes 1 | E3: ='Planilla de registro'!H3 -> Mes 2 | F3: ='Planilla de registro'!M3 -> Mes 3 | G3: ='Planilla de registro'!R3 -> Mes 4 | H3: ='Planilla de registro'!W3 -> Mes 5 | I3: ='Planilla de registro'!AB3 -> Mes 6 | J3: ='Planilla de registro'!AG3 -> Mes 7 | K3: ='Planilla de registro'!AL3 -> Mes 8 | L3: ='Planilla de registro'!AQ3 -> Mes 9 | M3: ='Planilla de registro'!AV3 -> Mes 10 | N3: ='Planilla de registro'!BA3 -> Mes 11 | O3: ='Planilla de registro'!BF3 -> Mes 12
B4: Ingresos totales | D4: ='Planilla de registro'!C4 -> 0 | E4: ='Planilla de registro'!H4 -> 0 | F4: ='Planilla de registro'!M4 -> 0 | G4: ='Planilla de registro'!R4 -> 0 | H4: ='Planilla de registro'!W4 -> 0 | I4: ='Planilla de registro'!AB4 -> 0 | J4: ='Planilla de registro'!AG4 -> 0 | K4: ='Planilla de registro'!AL4 -> 0 | L4: ='Planilla de registro'!AQ4 -> 0 | M4: ='Planilla de registro'!AV4 -> 0 | N4: ='Planilla de registro'!BA4 -> 0 | O4: ='Planilla de registro'!BF4 -> 0
B5: Gastos totales | D5: ='Planilla de registro'!C14 -> 0 | E5: ='Planilla de registro'!H14 -> 0 | F5: ='Planilla de registro'!M14 -> 0 | G5: ='Planilla de registro'!R14 -> 0 | H5: ='Planilla de registro'!W14 -> 0 | I5: ='Planilla de registro'!AB14 -> 0 | J5: ='Planilla de registro'!AG14 -> 0 | K5: ='Planilla de registro'!AL14 -> 0 | L5: ='Planilla de registro'!AQ14 -> 0 | M5: ='Planilla de registro'!AV14 -> 0 | N5: ='Planilla de registro'!BA14 -> 0 | O5: ='Planilla de registro'!BF14 -> 0
C6: ='Planilla de registro'!B15 -> Gastos genéricos del hogar: | D6: ='Planilla de registro'!C15 -> 0 | E6: ='Planilla de registro'!H15 -> 0 | F6: ='Planilla de registro'!M15 -> 0 | G6: ='Planilla de registro'!R15 -> 0 | H6: ='Planilla de registro'!W15 -> 0 | I6: ='Planilla de registro'!AB15 -> 0 | J6: ='Planilla de registro'!AG15 -> 0 | K6: ='Planilla de registro'!AL15 -> 0 | L6: ='Planilla de registro'!AQ15 -> 0 | M6: ='Planilla de registro'!AV15 -> 0 | N6: ='Planilla de registro'!BA15 -> 0 | O6: ='Planilla de registro'!BF15 -> 0
C7: ='Planilla de registro'!B21 -> Gastos específicos del hogar: | D7: ='Planilla de registro'!C21 -> 0 | E7: ='Planilla de registro'!H21 -> 0 | F7: ='Planilla de registro'!M21 -> 0 | G7: ='Planilla de registro'!R21 -> 0 | H7: ='Planilla de registro'!W21 -> 0 | I7: ='Planilla de registro'!AB21 -> 0 | J7: ='Planilla de registro'!AG21 -> 0 | K7: ='Planilla de registro'!AL21 -> 0 | L7: ='Planilla de registro'!AQ21 -> 0 | M7: ='Planilla de registro'!AV21 -> 0 | N7: ='Planilla de registro'!BA21 -> 0 | O7: ='Planilla de registro'!BF21 -> 0
C8: ='Planilla de registro'!B28 -> Gastos en educación: | D8: ='Planilla de registro'!C28 -> 0 | E8: ='Planilla de registro'!H28 -> 0 | F8: ='Planilla de registro'!M28 -> 0 | G8: ='Planilla de registro'!R31 -> 0 | H8: ='Planilla de registro'!W31 -> 0 | I8: ='Planilla de registro'!AB28 -> 0 | J8: ='Planilla de registro'!AG28 -> 0 | K8: ='Planilla de registro'!AL28 -> 0 | L8: ='Planilla de registro'!AQ28 -> 0 | M8: ='Planilla de registro'!AV28 -> 0 | N8: ='Planilla de registro'!BA28 -> 0 | O8: ='Planilla de registro'!BF28 -> 0
C9: ='Planilla de registro'!B31 -> Gastos de salud: | D9: ='Planilla de registro'!C31 -> 0 | E9: ='Planilla de registro'!H31 -> 0 | F9: ='Planilla de registro'!M31 -> 0 | G9: ='Planilla de registro'!R31 -> 0 | H9: ='Planilla de registro'!W31 -> 0 | I9: ='Planilla de registro'!AB31 -> 0 | J9: ='Planilla de registro'!AG31 -> 0 | K9: ='Planilla de registro'!AL31 -> 0 | L9: ='Planilla de registro'!AQ31 -> 0 | M9: ='Planilla de registro'!AV31 -> 0 | N9: ='Planilla de registro'!BA31 -> 0 | O9: ='Planilla de registro'!BF31 -> 0
C10: ='Planilla de registro'!B35 -> Gastos movilidad: | D10: ='Planilla de registro'!C35 -> 0 | E10: ='Planilla de registro'!H35 -> 0 | F10: ='Planilla de registro'!M35 -> 0 | G10: ='Planilla de registro'!R35 -> 0 | H10: ='Planilla de registro'!W35 -> 0 | I10: ='Planilla de registro'!AB35 -> 0 | J10: ='Planilla de registro'!AG35 -> 0 | K10: ='Planilla de registro'!AL35 -> 0 | L10: ='Planilla de registro'!AQ35 -> 0 | M10: ='Planilla de registro'!AV35 -> 0 | N10: ='Planilla de registro'!BA35 -> 0 | O10: ='Planilla de registro'!BF35 -> 0
C11: ='Planilla de registro'!B40 -> Gastos de entretenimiento y varios: | D11: ='Planilla de registro'!C40 -> 0 | E11: ='Planilla de registro'!H40 -> 0 | F11: ='Planilla de registro'!M40 -> 0 | G11: ='Planilla de registro'!R40 -> 0 | H11: ='Planilla de registro'!W40 -> 0 | I11: ='Planilla de registro'!AB40 -> 0 | J11: ='Planilla de registro'!AG40 -> 0 | K11: ='Planilla de registro'!AL40 -> 0 | L11: ='Planilla de registro'!AQ40 -> 0 | M11: ='Planilla de registro'!AV40 -> 0 | N11: ='Planilla de registro'!BA40 -> 0 | O11: ='Planilla de registro'!BF40 -> 0
C12: ='Planilla de registro'!B48 -> Otros gastos: | D12: ='Planilla de registro'!C48 -> 0 | E12: ='Planilla de registro'!H48 -> 0 | F12: ='Planilla de registro'!M48 -> 0 | G12: ='Planilla de registro'!R48 -> 0 | H12: ='Planilla de registro'!W48 -> 0 | I12: ='Planilla de registro'!AB48 -> 0 | J12: ='Planilla de registro'!AG48 -> 0 | K12: ='Planilla de registro'!AL48 -> 0 | L12: ='Planilla de registro'!AQ48 -> 0 | M12: ='Planilla de registro'!AV48 -> 0 | N12: ='Planilla de registro'!BA48 -> 0 | O12: ='Planilla de registro'!BF48 -> 0
B13: Diferencia | D13: =D4-D5 -> 0 | E13: =E4-E5 -> 0 | F13: =F4-F5 -> 0 | G13: =G4-G5 -> 0 | H13: =H4-H5 -> 0 | I13: =I4-I5 -> 0 | J13: =J4-J5 -> 0 | K13: =K4-K5 -> 0 | ... O13: =O4-O5 -> 0
